Workbook

Sheet июнь
B2: Информация об объемах покупки электрической энергии (мощности) на розничном рынке | C2: =[1]июнь!$D$1 -> июнь | D2: 2016 г.
B6: Электроэнергия | C6: Объем электроэнергии, кВтч | D6: Цена, руб./кВтч | E6: Примечание
B7: ЗАО "Екатеринбургская генерирующая компания" | C7: =[1]июнь!C$43 -> 3102088 | D7: =[1]июнь!D$43 -> 0.95117 | E7: Цена указана без НДС
B8: ООО "РТИ - Энерго" | C8: =[1]июнь!C$42 -> 0 | D8: =[1]июнь!D$42 -> 0 | E8: Цена указана без НДС
B9: ООО "ГРК "Евразия" | C9: =[1]июнь!C$45 -> 0 | D9: =[1]июнь!D$45 -> 0 | E9: Цена указана без НДС
B10: ОАО Мосэнергосбыт" | C10: =[1]июнь!C$44 -> 340 | D10: =[1]июнь!D$44 -> 1.09909 | E10: Цена указана без НДС
B11: ОАО ЭнергосбыТ Плюс" | C11: =[1]июнь!M$52 -> 19 | D11: =[1]июнь!N$52 -> 1.55684 | E11: Цена указана без НДС
C12: =[1]июнь!M$50 -> 1279 | D12: =[1]июнь!N$50*1.18 -> 2.38 | E12: Цена указана с НДС
C13: =[1]июнь!M$51 -> 1316 | D13: =[1]июнь!N$51*1.18 -> 1.13 | E13: Цена указана с НДС
C14: =SUM(C7:C13) -> 3105042
B17: Мощность | C17: Объем мощности, МВт | D17: Цена, руб./МВт | E17: Примечание
B18: ЗАО "Екатеринбургская генерирующая компания" | C18: =[1]июнь!C$51 -> 0.616 | D18: =[1]июнь!D$51 -> 379226.81 | E18: Цена указана без НДС
B19: ООО "РТИ - Энерго" | C19: =[1]июнь!C$50 -> 0 | D19: =[1]июнь!D$50 -> 98241.07 | E19: Цена указана без НДС
B20: ООО "ГРК "Евразия" | C20: =[1]июнь!C$53 -> 0 | D20: =[1]июнь!D$53 -> 98241.07 | E20: Цена указана без НДС
C21: =SUM(C18:C20) -> 0.616
