Workbook

Sheet 09
A1: Информация об объемах покупки электрической энергии (мощности) на розничном рынке | B1: =[1]СД!$D$1 -> сентябрь | C1: 2024 г.
A4: Электроэнергия | B4: Объем электроэнергии, кВтч | C4: Цена, руб./кВтч | D4: Примечание
A5: ООО «ЕЭС-Гарант» | B5: =[1]СД!$C$55 -> 2338 | C5: =IF(B5>0,[1]СД!$D$55,"") -> 2.4798161 | D5: Цена указана без НДС
A6: ЗАО Межотраслевой концерн "Уралметпром" | B6: =[1]СД!$C$51 -> 8045417 | C6: =IF(B6>0,[1]СД!$D$51,"") -> 1.61992 | D6: Цена указана без НДС
A7: ЗАО "Уралдиоксид" | B7: =[1]СД!$C$54 -> 23413 | C7: =IF(B7>0,[1]СД!$D$54,"") -> 1.49763 | D7: Цена указана без НДС
A8: АО «НПП «Старт» им. А.И. Яскина» | B8: =[1]СД!$C$49 -> 380716 | C8: =IF(B8>0,[1]СД!$D$49,"") -> 1.53607 | D8: Цена указана без НДС
A9: АО «ЭнергосбыТ Плюс» | B9: =[1]СД!$C$56 -> 392683 | C9: =IF(B9>0,[1]СД!$D$56,"") -> 4.6833333 | D9: Цена указана без НДС
A10: АО «ЭнергосбыТ Плюс» | B10: =[1]СД!$C$57 -> 1238217 | C10: =IF(B10>0,[1]СД!$D$57,"") -> 2.1152428 | D10: Цена указана без НДС
A11: АО "Энергопромышленная компания" | B11: =[1]СД!$C$48 -> 26441 | C11: =IF(B11>0,[1]СД!$D$48,"") -> 3.04297 | D11: Цена указана без НДС
B12: =SUM(B5:B11) -> 10109225
A15: Мощность | B15: Объем мощности, МВт | C15: Цена, руб./МВт | D15: Примечание
A16: =A5 -> ООО «ЕЭС-Гарант» | B16: =[1]СД!$C$79 -> 0.001 | C16: =IF(B16>0,[1]СД!$D$79,"") -> 874300.2 | D16: Цена указана без НДС
A17: ЗАО Межотраслевой концерн "Уралметпром" | B17: =[1]СД!$C$75 -> 12.635 | C17: =IF(B17>0,[1]СД!$D$75,"") -> 874043.89 | D17: Цена указана без НДС
A18: ЗАО "Уралдиоксид" | B18: =[1]СД!$C$78 -> 0.019 | C18: =IF(B18>0,[1]СД!$D$78,"") -> 165941.4 | D18: Цена указана без НДС
A19: АО «НПП «Старт» им. А.И. Яскина» | B19: =[1]СД!$C$73 -> 0.28 | C19: =IF(B19>0,[1]СД!$D$73,"") -> 165941.4 | D19: Цена указана без НДС
A20: АО «ЭнергосбыТ Плюс» | B20: =[1]СД!$C$81 -> 1.725 | C20: =[1]СД!$E$81/[1]СД!$C$81 -> 874499.92 | D20: Цена указана без НДС
B21: =SUM(B16:B20) -> 14.66
